BEGIN:VCALENDAR
VERSION:2.0
PRODID:-//Sängervereinigung Winnweiler - ECPv6.15.20//NONSGML v1.0//EN
CALSCALE:GREGORIAN
METHOD:PUBLISH
X-ORIGINAL-URL:http://saengervereinigung-winnweiler.de
X-WR-CALDESC:Veranstaltungen für Sängervereinigung Winnweiler
REFRESH-INTERVAL;VALUE=DURATION:PT1H
X-Robots-Tag:noindex
X-PUBLISHED-TTL:PT1H
BEGIN:VTIMEZONE
TZID:Europe/Paris
BEGIN:DAYLIGHT
TZOFFSETFROM:+0100
TZOFFSETTO:+0200
TZNAME:CEST
DTSTART:20250330T010000
END:DAYLIGHT
BEGIN:STANDARD
TZOFFSETFROM:+0200
TZOFFSETTO:+0100
TZNAME:CET
DTSTART:20251026T010000
END:STANDARD
BEGIN:DAYLIGHT
TZOFFSETFROM:+0100
TZOFFSETTO:+0200
TZNAME:CEST
DTSTART:20260329T010000
END:DAYLIGHT
BEGIN:STANDARD
TZOFFSETFROM:+0200
TZOFFSETTO:+0100
TZNAME:CET
DTSTART:20261025T010000
END:STANDARD
BEGIN:DAYLIGHT
TZOFFSETFROM:+0100
TZOFFSETTO:+0200
TZNAME:CEST
DTSTART:20270328T010000
END:DAYLIGHT
BEGIN:STANDARD
TZOFFSETFROM:+0200
TZOFFSETTO:+0100
TZNAME:CET
DTSTART:20271031T010000
END:STANDARD
END:VTIMEZONE
BEGIN:VEVENT
DTSTART;TZID=Europe/Paris:20260422T190000
DTEND;TZID=Europe/Paris:20260422T200000
DTSTAMP:20260421T142614
CREATED:20260409T170827Z
LAST-MODIFIED:20260409T170827Z
UID:733-1776884400-1776888000@saengervereinigung-winnweiler.de
SUMMARY:Vorstandssitzung
DESCRIPTION:
URL:http://saengervereinigung-winnweiler.de/veranstaltung/vorstandssitzung/
CATEGORIES:2026,Vorstand
END:VEVENT
BEGIN:VEVENT
DTSTART;TZID=Europe/Paris:20260603T190000
DTEND;TZID=Europe/Paris:20260603T200000
DTSTAMP:20260421T142614
CREATED:20260409T170858Z
LAST-MODIFIED:20260409T171549Z
UID:735-1780513200-1780516800@saengervereinigung-winnweiler.de
SUMMARY:Erweiterte Vorstandssitzung
DESCRIPTION:
URL:http://saengervereinigung-winnweiler.de/veranstaltung/erweiterte-vorstandssitzung/
LOCATION:Sängerheim\, Bürgermeister-Simon-Haus\, Schlossplatz\, Winnweiler\, 67722
CATEGORIES:2026,Vorstand
END:VEVENT
BEGIN:VEVENT
DTSTART;VALUE=DATE:20260606
DTEND;VALUE=DATE:20260607
DTSTAMP:20260421T142614
CREATED:20260409T170946Z
LAST-MODIFIED:20260409T170946Z
UID:737-1780704000-1780790399@saengervereinigung-winnweiler.de
SUMMARY:Konzert in Heiligenmoschel
DESCRIPTION:
URL:http://saengervereinigung-winnweiler.de/veranstaltung/konzert-in-heiligenmoschel/
CATEGORIES:2026,Auftritt,Tonika
END:VEVENT
BEGIN:VEVENT
DTSTART;TZID=Europe/Paris:20260627T170000
DTEND;TZID=Europe/Paris:20260627T190000
DTSTAMP:20260421T142614
CREATED:20260409T171039Z
LAST-MODIFIED:20260409T171039Z
UID:739-1782579600-1782586800@saengervereinigung-winnweiler.de
SUMMARY:Grillfest 2026
DESCRIPTION:
URL:http://saengervereinigung-winnweiler.de/veranstaltung/grillfest-2026/
CATEGORIES:2026,Chöre,Frauenchor,Männerchor,Tonika
END:VEVENT
END:VCALENDAR