BEGIN:VCALENDAR
VERSION:2.0
PRODID:-//Sängervereinigung Winnweiler - ECPv6.15.20//NONSGML v1.0//EN
CALSCALE:GREGORIAN
METHOD:PUBLISH
X-ORIGINAL-URL:http://saengervereinigung-winnweiler.de
X-WR-CALDESC:Veranstaltungen für Sängervereinigung Winnweiler
REFRESH-INTERVAL;VALUE=DURATION:PT1H
X-Robots-Tag:noindex
X-PUBLISHED-TTL:PT1H
BEGIN:VTIMEZONE
TZID:Europe/Paris
BEGIN:DAYLIGHT
TZOFFSETFROM:+0100
TZOFFSETTO:+0200
TZNAME:CEST
DTSTART:20230326T010000
END:DAYLIGHT
BEGIN:STANDARD
TZOFFSETFROM:+0200
TZOFFSETTO:+0100
TZNAME:CET
DTSTART:20231029T010000
END:STANDARD
BEGIN:DAYLIGHT
TZOFFSETFROM:+0100
TZOFFSETTO:+0200
TZNAME:CEST
DTSTART:20240331T010000
END:DAYLIGHT
BEGIN:STANDARD
TZOFFSETFROM:+0200
TZOFFSETTO:+0100
TZNAME:CET
DTSTART:20241027T010000
END:STANDARD
BEGIN:DAYLIGHT
TZOFFSETFROM:+0100
TZOFFSETTO:+0200
TZNAME:CEST
DTSTART:20250330T010000
END:DAYLIGHT
BEGIN:STANDARD
TZOFFSETFROM:+0200
TZOFFSETTO:+0100
TZNAME:CET
DTSTART:20251026T010000
END:STANDARD
END:VTIMEZONE
BEGIN:VEVENT
DTSTART;TZID=Europe/Paris:20240822T181500
DTEND;TZID=Europe/Paris:20240822T194500
DTSTAMP:20260423T000614
CREATED:20240817T155037Z
LAST-MODIFIED:20240817T155417Z
UID:269-1724350500-1724355900@saengervereinigung-winnweiler.de
SUMMARY:Frauenchor - Erste Probe nach dem Sommerpause 2024
DESCRIPTION:
URL:http://saengervereinigung-winnweiler.de/veranstaltung/frauenchor-sommerpause-2024/
LOCATION:Sängerheim\, Bürgermeister-Simon-Haus\, Schlossplatz\, Winnweiler\, 67722
CATEGORIES:2024,Chöre,Frauenchor
END:VEVENT
BEGIN:VEVENT
DTSTART;TZID=Europe/Paris:20240822T200000
DTEND;TZID=Europe/Paris:20240822T213000
DTSTAMP:20260423T000614
CREATED:20240817T155248Z
LAST-MODIFIED:20240817T155355Z
UID:274-1724356800-1724362200@saengervereinigung-winnweiler.de
SUMMARY:Männerchor - Erste Probe nach der Sommerpause 2024
DESCRIPTION:
URL:http://saengervereinigung-winnweiler.de/veranstaltung/maennerchor-sommerpause-2024/
LOCATION:Sängerheim\, Bürgermeister-Simon-Haus\, Schlossplatz\, Winnweiler\, 67722
CATEGORIES:2024,Chöre,Männerchor
END:VEVENT
BEGIN:VEVENT
DTSTART;TZID=Europe/Paris:20240828T183000
DTEND;TZID=Europe/Paris:20240828T200000
DTSTAMP:20260423T000614
CREATED:20240817T155339Z
LAST-MODIFIED:20240817T155339Z
UID:276-1724869800-1724875200@saengervereinigung-winnweiler.de
SUMMARY:Tonika - Erste Probe nach der Sommerpause 2024
DESCRIPTION:
URL:http://saengervereinigung-winnweiler.de/veranstaltung/tonika-erste-probe-nach-der-sommerpause-2024/
LOCATION:Sängerheim\, Bürgermeister-Simon-Haus\, Schlossplatz\, Winnweiler\, 67722
CATEGORIES:2024,Chöre,Tonika
END:VEVENT
END:VCALENDAR