BEGIN:VCALENDAR
VERSION:2.0
PRODID:-//Sängervereinigung Winnweiler - ECPv6.15.20//NONSGML v1.0//EN
CALSCALE:GREGORIAN
METHOD:PUBLISH
X-WR-CALNAME:Sängervereinigung Winnweiler
X-ORIGINAL-URL:http://saengervereinigung-winnweiler.de
X-WR-CALDESC:Veranstaltungen für Sängervereinigung Winnweiler
REFRESH-INTERVAL;VALUE=DURATION:PT1H
X-Robots-Tag:noindex
X-PUBLISHED-TTL:PT1H
BEGIN:VTIMEZONE
TZID:Europe/Paris
BEGIN:DAYLIGHT
TZOFFSETFROM:+0100
TZOFFSETTO:+0200
TZNAME:CEST
DTSTART:20240331T010000
END:DAYLIGHT
BEGIN:STANDARD
TZOFFSETFROM:+0200
TZOFFSETTO:+0100
TZNAME:CET
DTSTART:20241027T010000
END:STANDARD
BEGIN:DAYLIGHT
TZOFFSETFROM:+0100
TZOFFSETTO:+0200
TZNAME:CEST
DTSTART:20250330T010000
END:DAYLIGHT
BEGIN:STANDARD
TZOFFSETFROM:+0200
TZOFFSETTO:+0100
TZNAME:CET
DTSTART:20251026T010000
END:STANDARD
BEGIN:DAYLIGHT
TZOFFSETFROM:+0100
TZOFFSETTO:+0200
TZNAME:CEST
DTSTART:20260329T010000
END:DAYLIGHT
BEGIN:STANDARD
TZOFFSETFROM:+0200
TZOFFSETTO:+0100
TZNAME:CET
DTSTART:20261025T010000
END:STANDARD
END:VTIMEZONE
BEGIN:VEVENT
DTSTART;TZID=Europe/Paris:20250303T143000
DTEND;TZID=Europe/Paris:20250303T160000
DTSTAMP:20260422T130533
CREATED:20250205T194502Z
LAST-MODIFIED:20250205T194830Z
UID:617-1741012200-1741017600@saengervereinigung-winnweiler.de
SUMMARY:Singen im Seniorenheim in der Prinzenstraße in Winnweiler
DESCRIPTION:
URL:http://saengervereinigung-winnweiler.de/veranstaltung/singen-im-seniorenheim-in-der-prinzenstrasse-in-winnweiler/
LOCATION:ZOAR\, Prinzenstraße\, Winnweiler\, 67722
CATEGORIES:2025,Auftritt
END:VEVENT
BEGIN:VEVENT
DTSTART;TZID=Europe/Paris:20250327T190000
DTEND;TZID=Europe/Paris:20250327T210000
DTSTAMP:20260422T130533
CREATED:20250205T194556Z
LAST-MODIFIED:20250205T194750Z
UID:619-1743102000-1743109200@saengervereinigung-winnweiler.de
SUMMARY:Mitgliederversammlung 2025
DESCRIPTION:
URL:http://saengervereinigung-winnweiler.de/veranstaltung/mitgliederversammlung-2025/
LOCATION:Albert-Schweitzer-Realschule Plus\, Winnweiler\, 67722
CATEGORIES:2025,Mitgliederversammlung
END:VEVENT
END:VCALENDAR