BEGIN:VCALENDAR
VERSION:2.0
PRODID:-//Sängervereinigung Winnweiler - ECPv6.15.20//NONSGML v1.0//EN
CALSCALE:GREGORIAN
METHOD:PUBLISH
X-WR-CALNAME:Sängervereinigung Winnweiler
X-ORIGINAL-URL:http://saengervereinigung-winnweiler.de
X-WR-CALDESC:Veranstaltungen für Sängervereinigung Winnweiler
REFRESH-INTERVAL;VALUE=DURATION:PT1H
X-Robots-Tag:noindex
X-PUBLISHED-TTL:PT1H
BEGIN:VTIMEZONE
TZID:Europe/Paris
BEGIN:DAYLIGHT
TZOFFSETFROM:+0100
TZOFFSETTO:+0200
TZNAME:CEST
DTSTART:20240331T010000
END:DAYLIGHT
BEGIN:STANDARD
TZOFFSETFROM:+0200
TZOFFSETTO:+0100
TZNAME:CET
DTSTART:20241027T010000
END:STANDARD
BEGIN:DAYLIGHT
TZOFFSETFROM:+0100
TZOFFSETTO:+0200
TZNAME:CEST
DTSTART:20250330T010000
END:DAYLIGHT
BEGIN:STANDARD
TZOFFSETFROM:+0200
TZOFFSETTO:+0100
TZNAME:CET
DTSTART:20251026T010000
END:STANDARD
BEGIN:DAYLIGHT
TZOFFSETFROM:+0100
TZOFFSETTO:+0200
TZNAME:CEST
DTSTART:20260329T010000
END:DAYLIGHT
BEGIN:STANDARD
TZOFFSETFROM:+0200
TZOFFSETTO:+0100
TZNAME:CET
DTSTART:20261025T010000
END:STANDARD
END:VTIMEZONE
BEGIN:VEVENT
DTSTART;TZID=Europe/Paris:20251206T080000
DTEND;TZID=Europe/Paris:20251206T170000
DTSTAMP:20260421T222230
CREATED:20251130T165111Z
LAST-MODIFIED:20251130T165111Z
UID:708-1765008000-1765040400@saengervereinigung-winnweiler.de
SUMMARY:Licht-\, Stell- und Generalprobe in der kath. Kirche
DESCRIPTION:
URL:http://saengervereinigung-winnweiler.de/veranstaltung/licht-stell-und-generalprobe-in-der-kath-kirche/
LOCATION:Katholische Kirche\, Winnweiler\, Germany
CATEGORIES:2025,Chöre,Frauenchor,Männerchor,Probe,Tonika
END:VEVENT
BEGIN:VEVENT
DTSTART;TZID=Europe/Paris:20251207T180000
DTEND;TZID=Europe/Paris:20251207T210000
DTSTAMP:20260421T222230
CREATED:20251130T160333Z
LAST-MODIFIED:20251130T165023Z
UID:691-1765130400-1765141200@saengervereinigung-winnweiler.de
SUMMARY:Adventssingen 2025
DESCRIPTION:
URL:http://saengervereinigung-winnweiler.de/veranstaltung/adventssingen2025/
LOCATION:Katholische Kirche\, Winnweiler\, Germany
CATEGORIES:2025,Auftritt,Chöre,Frauenchor,Männerchor,Tonika
END:VEVENT
BEGIN:VEVENT
DTSTART;TZID=Europe/Paris:20251212T130000
DTEND;TZID=Europe/Paris:20251212T140000
DTSTAMP:20260421T222230
CREATED:20251130T165203Z
LAST-MODIFIED:20260409T170349Z
UID:710-1765544400-1765548000@saengervereinigung-winnweiler.de
SUMMARY:Auftritt bei der Firma Schramm – Eröffnung des Weihnachtsmarktes
DESCRIPTION:
URL:http://saengervereinigung-winnweiler.de/veranstaltung/auftritt-bei-der-firma-schramm-eroeffnung-des-weihnachtsmarktes/
CATEGORIES:2025,Auftritt
END:VEVENT
BEGIN:VEVENT
DTSTART;TZID=Europe/Paris:20251213T180000
DTEND;TZID=Europe/Paris:20251213T210000
DTSTAMP:20260421T222230
CREATED:20251130T165239Z
LAST-MODIFIED:20260409T170401Z
UID:712-1765648800-1765659600@saengervereinigung-winnweiler.de
SUMMARY:Weihnachtsfeier 2025
DESCRIPTION:
URL:http://saengervereinigung-winnweiler.de/veranstaltung/weihnachtsfeier-2025/
CATEGORIES:2025
END:VEVENT
END:VCALENDAR